BEGIN:VCALENDAR
VERSION:2.0
PRODID:-//hacksw/handcal//NONSGML v1.0//EN
CALSCALE:GREGORIAN
BEGIN:VEVENT
UID:69ece72b7f54a
DTSTAMP:20260425T160915Z
DESCRIPTION:Seniors &ndash\; you have 100 days until graduation! This is Career Connection&apos\;s featured event to get you ready for life after graduation. It is geared for graduating seniors\, and is open to any student graduating in 2025. This event will occur from 6:30 p.m.-7:30 p.m. on Thursday\, Jan. 30\, (with registration starting at 6:15 p.m.) in Merrick 301. It's time to get the INSIDE SCOOP!
Cr&egrave\;me Br&ucirc\;l&eacute\;e Spoons\, Hot Chocolate\, Hummus/Pita\, and Cheese/Crackers will be served! Please help yourself and find a seat at a table. Young alums will be stationed at the front of the room and will quickly introduce themselves and talk about things they&nbsp\;wish they had known&nbsp\;before graduating OWU! You will have the opportunity to participate in 3 table conversations of your choosing and engage in meaningful ways with fellow students and OWU alums.
This event is also the KICKOFF of our Real Life 101 Senior Program\, which will include working with a Professional Mentor and attending workshops that cover Finance\, Housing\, LinkedIn\, and more!&nbsp\;Students who complete the Real Life 101 program will graduate with special graduation cords\, DOT Business Cards\, Padfolios\, and more!&nbsp\;(Note that you do not need to attend the entire Real Life 101 program to participate in this event).&nbsp\;Registration is STRONGLY ENCOURAGED and will help us prepare food and alumni numbers for this program.
Register HERE:&nbsp\;100 Day Countdown to Graduation &amp\; Real Life 101 Kickoff!&nbsp\;

OWU Sponsoring Organization/Office: Ohio Wesleyan UniversityContact: Leigh Mascolino at&nbsp\;lemascolin@owu.edu

SUMMARY:100 Day Countdown &amp\; Real Life 101 Kickoff
DTSTART:20250130T233000Z
DTEND:20250131T003000Z
END:VEVENT
END:VCALENDAR
