BEGIN:VCALENDAR
VERSION:2.0
PRODID:-//hacksw/handcal//NONSGML v1.0//EN
CALSCALE:GREGORIAN
BEGIN:VEVENT
UID:69ec956976aa7
DTSTAMP:20260425T102025Z
DESCRIPTION:Ohio Wesleyan's 2024 commencement ceremony will begin at 1 p.m. May 11. Weather permitting\, the event will be held outdoors on the lawn in front of Merrick Hall\, 65 S. Sandusky St.\, Delaware. If it is moved indoors to Gordon Field House\, tickets are required. The ceremony&nbsp\;will be streamed live and archived online at&nbsp\;owu.edu/stream. Learn more at&nbsp\;owu.edu/commencement.
&nbsp\;Kelly McFarland Stratman\, chief of staff and interim co-CEO for the Washington\, D.C.-based League of Women Voters of the United States\, will provide the keynote address\, and Ben Warden\, a psychology major from Marysville\, Ohio\, will provide the senior address.
SUMMARY:180th Commencement Ceremony
DTSTART:20240511T170000Z
DTEND:20240511T190000Z
END:VEVENT
END:VCALENDAR
