BEGIN:VCALENDAR
VERSION:2.0
PRODID:-//hacksw/handcal//NONSGML v1.0//EN
CALSCALE:GREGORIAN
BEGIN:VEVENT
UID:69e7bea93455d
DTSTAMP:20260421T181505Z
DESCRIPTION:Blair Kisker\, MBA\,&nbsp\;vice president of finance and accounting for FC Cincinnati\, presents &ldquo\;Following Passion to Career: From Accounting to the World of Soccer\,&rdquo\; in the Benes Rooms inside Hamilton-Williams Campus Center\, 40 Rowland Ave.\, Delaware. A 2012 Ohio Wesleyan graduate\, Kisker joined&nbsp\;FC Cincinnati\, the city&rsquo\;s Major League Soccer franchise\, in 2018. His work included driving fiscal efficiency and strategic financial planning.&nbsp\;Kisker&rsquo\;s&nbsp\;presentation is Ohio Wesleyan&rsquo\;s 2023-2024 Robert L. Milligan Leaders in Business Lecture\, organized by the Woltemade Center for Economics\, Business and Entrepreneurship. Admission is free. Learn more at&nbsp\;www.owu.edu/woltemade.
SUMMARY:2023 Robert L. Milligan Leaders in Business Lecture: Blair Kisker ’12
DTSTART:20231207T003000Z
DTEND:20231207T013000Z
END:VEVENT
END:VCALENDAR
