BEGIN:VCALENDAR
VERSION:2.0
PRODID:-//hacksw/handcal//NONSGML v1.0//EN
CALSCALE:GREGORIAN
BEGIN:VEVENT
UID:69ead539cd232
DTSTAMP:20260424T022809Z
DESCRIPTION:Ohio Wesleyan holds its 183rd annual Convocation ceremony\, welcoming new first-year and transfer students to the university.

Read more about the event\, including FAQs.
View the StreamOWU livestream.

SUMMARY:2024 Convocation
DTSTART:20240815T200000Z
DTEND:20240815T210000Z
END:VEVENT
END:VCALENDAR
