BEGIN:VCALENDAR
VERSION:2.0
PRODID:-//hacksw/handcal//NONSGML v1.0//EN
CALSCALE:GREGORIAN
BEGIN:VEVENT
UID:69eb25757d834
DTSTAMP:20260424T081029Z
DESCRIPTION:Join us on Friday\, July 27\, 2024 for a fun day of golf\, as we support student-athletes at Ohio Wesleyan University.&nbsp\; Oak Haven Golf Course\, Delaware\, OH.
Schedule of events:
1 p.m.&nbsp\; &nbsp\; &nbsp\;Check-in and lunch
2 p.m.&nbsp\; &nbsp\; &nbsp\;Shotgun start
6 p.m.&nbsp\; &nbsp\; &nbsp\;Presentation of awards will take place once golfers have completed the course
Register&nbsp\;here!
SUMMARY:2024 Football Golf Outing
DTSTART:20240727T170000Z
DTEND:20240727T230000Z
END:VEVENT
END:VCALENDAR
