BEGIN:VCALENDAR
VERSION:2.0
PRODID:-//hacksw/handcal//NONSGML v1.0//EN
CALSCALE:GREGORIAN
BEGIN:VEVENT
UID:69e706fd0c8a1
DTSTAMP:20260421T051125Z
DESCRIPTION:Ohio Wesleyan students will create a Republican Party platform and select presidential and vice presidential candidates. The two-day event\, which simulates a national nominating convention\, will take place Feb. 23-24 in Gray Chapel inside University Hall\, 61 S. Sandusky St. The event is free and open to the public. Learn more at www.owu.edu/mock.

4 p.m. to 10 p.m. Feb. 23 &ndash\; OWU's 2024 Mock Convention will kick off with opening ceremonies followed by platform debates. (Doors open at 3 p.m.)
9 a.m. to noon Feb. 24 &ndash\; Mock Convention-goers will select their 2024 Republican Party ticket in preparation for the November presidential election.

SUMMARY:2024 Mock Convention: 'The Elephant in the Room'
DTSTART:20240224T140000Z
DTEND:20240224T170000Z
END:VEVENT
END:VCALENDAR
