BEGIN:VCALENDAR
VERSION:2.0
PRODID:-//hacksw/handcal//NONSGML v1.0//EN
CALSCALE:GREGORIAN
BEGIN:VEVENT
UID:69ecbe3535fcd
DTSTAMP:20260425T131429Z
DESCRIPTION:Join us for Ohio Wesleyan's 2025 Economic Outlook Conference\, featuring a panel of experts discussing their forecasts for the regional\, national\, and international economies. Each expert will speak for 15 minutes and then respond to questions and comments from the audience and panel moderator Goran Skosples\, Ph.D.\, associate professor of economics.
The 2025 panelists are Joyce Chen\, Ph.D.\, a development economist and professor of Economics in Women's\, Gender and Sexuality Studies at The Ohio State University\; Fadhel Kaboub\, Ph.D.\, an associate professor of economics at Denison University and president of the Global Institute for Sustainable Prosperity\; and Mark Schweitzer\, Ph.D.\, an economist emeritus in the Research Department of the Federal Reserve Bank of Cleveland.
The event is sponsored by the OWU Department of Economics and Business and by The Woltemade Center for Economics\, Business and Entrepreneurship. Admission is free. Learn more at&nbsp\;www.owu.edu/woltemade.
SUMMARY:2025 Economic Outlook Conference
DTSTART:20250129T003000Z
DTEND:20250129T013000Z
END:VEVENT
END:VCALENDAR
