BEGIN:VCALENDAR
VERSION:2.0
PRODID:-//hacksw/handcal//NONSGML v1.0//EN
CALSCALE:GREGORIAN
BEGIN:VEVENT
UID:69ec3c7d53ead
DTSTAMP:20260425T040101Z
DESCRIPTION:Growing Towards Justice: From Root to Fruit
We cordially invite you to join us for the 2025 Delaware County Martin Luther King Jr. Celebration. This event promises to be an unforgettable blend of commemoration\, introspection\, fun\, and love in action.
The theme is drawn from the Rev. Martin Luther King Jr.'s 1967 speech "Where Do We Go From Here: Chaos or Community" in which King proclaimed\, "The plant of freedom has grown only a bud\, and not yet a flower." The statement eloquently reminds us that although important progress has been made\, the fight for civil rights has not yet reached full bloom.
The keynote speaker is&nbsp\;Dr. Valerie Lee\, a retired professor of English and former chair of three Ohio State University academic departments &ndash\; English\, Women's Studies (now Women's\, Gender and Sexuality Studies)\, and African American and African Studies. Lee also served a five-year term as the university's Chief Diversity Officer and Vice Provost of Diversity and Inclusion\, and a three-year term as Vice President of Outreach and Engagement. Her latest book\,&nbsp\;"Sisterlocking Discoarse:&nbsp\;Race\, Gender\, and the Twenty-First-Century Academy\," was a finalist for the 2021 Foreword INDIES Book of the Year Award in the Education Category.
Also highlighting the celebration\, the Columbus Adventist Academy Children's Choir will perform\, directed by Tamaria Kulemeka.
&nbsp\;
Register HERE
SUMMARY:32nd Annual MLK Celebration
DTSTART:20250120T150000Z
DTEND:20250120T163000Z
END:VEVENT
END:VCALENDAR
