BEGIN:VCALENDAR
VERSION:2.0
PRODID:-//hacksw/handcal//NONSGML v1.0//EN
CALSCALE:GREGORIAN
BEGIN:VEVENT
UID:69e8212715a4f
DTSTAMP:20260422T011519Z
DESCRIPTION:A Cappellooza\, OWU's annual voices-only showcase\, in Gray Chapel inside University Hall\, 61 S. Sandusky St.\, Delaware. The concert will feature performances by the OWU OWtsiders\, an Ohio Wesleyan student a cappella group\, by an OWU ukulele group\, and by the headline performer\,&nbsp\;Filosophy.
A Cappellooza tickets are free for everyone and may be reserved at&nbsp\;www.owu.edu/acappellooza via Eventbrite. Doors will open at 7 p.m. A Cappellooza is organized by OWU's student Campus Programming Board.&nbsp\;
SUMMARY:A Cappellooza
DTSTART:20241109T003000Z
DTEND:20241109T023000Z
END:VEVENT
END:VCALENDAR
