BEGIN:VCALENDAR
VERSION:2.0
PRODID:-//hacksw/handcal//NONSGML v1.0//EN
CALSCALE:GREGORIAN
BEGIN:VEVENT
UID:69e9e6cf71a4e
DTSTAMP:20260423T093055Z
DESCRIPTION:A Cappellooza\, OWU's annual voices-only showcase\, will feature performances by Ohio Wesleyan's Pitch Black and OWtsiders. The professional\, five-member group Radius&nbsp\;will headline the 10th-anniversary concert.
A Cappellooza tickets are $5 general admission for individuals outside of OWU and may be purchased with this Eventbrite link. The concert is free for Ohio Wesleyan students and employees with valid university IDs. Doors will open at 6:30 p.m. A Cappellooza is organized by OWU's student Campus Programming Board.
SUMMARY:A Cappellooza
DTSTART:20231104T233000Z
DTEND:20231105T010000Z
END:VEVENT
END:VCALENDAR
