BEGIN:VCALENDAR
VERSION:2.0
PRODID:-//hacksw/handcal//NONSGML v1.0//EN
CALSCALE:GREGORIAN
BEGIN:VEVENT
UID:69ea8a04e5bc6
DTSTAMP:20260423T210716Z
DESCRIPTION:Participate in a research study on horror movies' effects on Cortisol via saliva sampling while watching &ldquo\;Paranormal Activity 3.&rdquo\; To participate\, you must be at least 18 years old\, be able to sit for an extended period\, and watch a film that may include flashing lights\, loud noises\, and frightening imagery. You will also be expected to hand your phone to the research leads for the duration of the film (to minimize distractions) and be asked to not eat or drink anything an hour before and during the experiment. If you are interested in participating please fill out this google form with your name and email to get more information. https://docs.google.com/forms/d/e/1FAIpQLSfFBdOxK2JdqBBwoSNlRSbojxwjntP5bRXAN2RUYV9xR_tcFg/viewform?usp=sf_link
This research is being conducted for a course project.
OWU Sponsoring Organization/Office: Biology DepartmentContact: Alyssa Head at&nbsp\;aahead@owu.edu
SUMMARY:A Monster Mash of Cortisol
DTSTART:20231028T220000Z
DTEND:20231029T003000Z
END:VEVENT
END:VCALENDAR
