BEGIN:VCALENDAR
VERSION:2.0
PRODID:-//hacksw/handcal//NONSGML v1.0//EN
CALSCALE:GREGORIAN
BEGIN:VEVENT
UID:69e8c9b239cbd
DTSTAMP:20260422T131426Z
DESCRIPTION:


Join the Women in Science club and Black Student Union for an evening of planting\, connecting\, and celebrating growth! Pick out your favorite mini succulent\, herb\, or flower\, and bring it to life in your very own planter. Whether you have a green thumb or are just starting\, this hands-on event is a perfect way to get creative\, learn a bit about plant care\, and make new friends. Plus\, you&apos\;ll walk away with a little green companion to brighten up your space!
OWU Sponsoring Organization/Office: Women in Science &amp\; Black Student UnionContact: Lydia Ekama at&nbsp\;bsu@owu.edu



SUMMARY:A Planting Party with Purpose
DTSTART:20241116T000000Z
DTEND:20241116T020000Z
END:VEVENT
END:VCALENDAR
