BEGIN:VCALENDAR
VERSION:2.0
PRODID:-//hacksw/handcal//NONSGML v1.0//EN
CALSCALE:GREGORIAN
BEGIN:VEVENT
UID:69e7a95d65843
DTSTAMP:20260421T164413Z
DESCRIPTION:Join OWU&rsquo\;s Department of Performing Arts production as an actor or a member of the tech team for the spring musical\,&nbsp\;Absolute Zero! Things are heating up for the CIA's coolest agent\, Sam Knight\, when her quest to shut down a terrorist set on freezing the planet turns into a high-stakes confrontation with a former lover who has absolutely zero chill. Following international breadcrumbs\, infiltrating armies of clones\, and irritating INTERPOL is business as usual for the suave superspy. Cracking open her icy exterior to battle her inner demons? That's not the kind of fight Knight signed up for. Follow Sam's hapless assistant\, a rogue Chemistry professor\, and a debutante double agent in this queer James-Bond-meets-pulp-comic developing musical. Please follow the embedded links for additional information and sign-ups for both&nbsp\;auditions&nbsp\;and the&nbsp\;tech crew.
OWU Sponsoring Organization/Office: Department of Performing ArtsContact: Lusie Cuskey at&nbsp\;lmcuskey@owu.edu
SUMMARY:Absolute Zero Musical Auditions
DTSTART:20231207T213000Z
DTEND:20231208T013000Z
END:VEVENT
END:VCALENDAR
