BEGIN:VCALENDAR
VERSION:2.0
PRODID:-//hacksw/handcal//NONSGML v1.0//EN
CALSCALE:GREGORIAN
BEGIN:VEVENT
UID:69e9bff6e9292
DTSTAMP:20260423T064510Z
DESCRIPTION:Learn how to mend rips and sew buttons back on your clothes instead of throwing them away!
OWU Sponsoring Organization/Office: ResLifeContact: Molly Grace Lovette at&nbsp\;mglovette@owu.edu
SUMMARY:Adulting 101: Clothing Repair
DTSTART:20231107T013000Z
DTEND:20231107T020000Z
END:VEVENT
END:VCALENDAR
