BEGIN:VCALENDAR
VERSION:2.0
PRODID:-//hacksw/handcal//NONSGML v1.0//EN
CALSCALE:GREGORIAN
BEGIN:VEVENT
UID:69eac21158ac3
DTSTAMP:20260424T010625Z
DESCRIPTION:Stop by and meet the professors in the AGIS (Africana\, Gender\, and Identity Studies) department! Learn about the AGIS courses. Food will be provided.
OWU Sponsoring Organization/Office: Africana\, Gender\, and Identity Studies DepartmentContact: Wendi Kay at&nbsp\;wwkay@owu.edu
SUMMARY:Africana\, Gender\, and Identity Studies - Fall Social 
DTSTART:20231025T153000Z
DTEND:20231025T170000Z
END:VEVENT
END:VCALENDAR
