BEGIN:VCALENDAR
VERSION:2.0
PRODID:-//hacksw/handcal//NONSGML v1.0//EN
CALSCALE:GREGORIAN
BEGIN:VEVENT
UID:69e73a233c676
DTSTAMP:20260421T084939Z
DESCRIPTION:Open House Join the A.G.I.S. Department and Student Board for Pizza and Crumbl cookies! All are welcome\, and it is a great opportunity to meet and mingle with Faculty and other A.G.I.S. majors and minors. Wednesday Oct 2nd 12:00pm Elliott Hall Suite #211
OWU Sponsoring Organization/Office: Ohio Wesleyan UniversityContact: Wendi Kay at&nbsp\;wwkay@owu.edu
SUMMARY:AGIS Open House
DTSTART:20241002T160000Z
DTEND:20241002T170000Z
END:VEVENT
END:VCALENDAR
