BEGIN:VCALENDAR
VERSION:2.0
PRODID:-//hacksw/handcal//NONSGML v1.0//EN
CALSCALE:GREGORIAN
BEGIN:VEVENT
UID:69eb9c07be8fc
DTSTAMP:20260424T163623Z
DESCRIPTION:Are you interested in joining Alpha Kappa Alpha Sorority\, Incorporated Pi Gamma Chapter? Pi Gamma chapter includes students from Ohio Wesleyan\, Capital\, Denison\, Ohio Dominican\, and Otterbein Universities
Formal Rush October 3\, 2021 (virtual) All required materials must be submitted by September 27\, 2021.In order to receive an invitation to the Virtual Formal Rush\, please review the requirements.For a list of requirements\, please email&nbsp\;FSL@owu.edu&nbsp\;or AKA Chapter Advisor\, Miss Nolene Smith&nbsp\;smithnaka2011@gmail.com
For more information about AKA go to&nbsp\;https://aka1908.com/
OWU Sponsoring Organization/Office: Fraternity &amp\; Sorority Life OfficeContact: Nancy Rutkowski at&nbsp\;fsl@owu.edu
SUMMARY:Alpha Kappa Alpha Sorority Inc. - Rush Information
DTSTART:20210927
DTEND:20210927
END:VEVENT
END:VCALENDAR
