BEGIN:VCALENDAR
VERSION:2.0
PRODID:-//hacksw/handcal//NONSGML v1.0//EN
CALSCALE:GREGORIAN
BEGIN:VEVENT
UID:69e9abe0c41cd
DTSTAMP:20260423T051928Z
DESCRIPTION:The Alpha Phi Alpha Fraternity\, Inc. will be hosting&nbsp\; an informational session on November 8\, at 7:06 p.m. in Corns 203. Come learn about the fraternity's history\, mission\, and values. If you've ever thought about membership in Alpha Phi Alpha Fraternity\, Inc. this is a great place to start! Email omicronrho@gmail.com with questions.
OWU Sponsoring Organization/Office: Student Involvement OfficeContact: Anna Nacci at&nbsp\;involveu@owu.edu
SUMMARY:Alpha Phi Alpha Fraternity Informational Session
DTSTART:20231109T000600Z
DTEND:20231109T013000Z
END:VEVENT
END:VCALENDAR
