BEGIN:VCALENDAR
VERSION:2.0
PRODID:-//hacksw/handcal//NONSGML v1.0//EN
CALSCALE:GREGORIAN
BEGIN:VEVENT
UID:69e6322ee18fa
DTSTAMP:20260420T140326Z
DESCRIPTION:Come out to see OWU's first Asian Horror Film Festival! The films are from Japan\, South Korea\, Thailand\, and Taiwan\, and will have corresponding discussions\, snacks\, and informational handouts. Come out and be spooked!
2.25.19: Japan\; "The Complex"2.27.19: Thailand\; "Ghost of Mae Nak"3.4.19: South Korea\; "The Ghost"3.6.19: Taiwan\; "The Tag-Along"
Each film starts at 6:00 pm.
OWU Sponsoring Organization/Office: Comparative Literature DepartmentContact: Kaitie Welch at&nbsp\;kmwelch@owu.edu
SUMMARY:Asian Horror Film Festival
DTSTART:20190225T230000Z
DTEND:20190226T010000Z
END:VEVENT
END:VCALENDAR
