BEGIN:VCALENDAR
VERSION:2.0
PRODID:-//hacksw/handcal//NONSGML v1.0//EN
CALSCALE:GREGORIAN
BEGIN:VEVENT
UID:69ea791b07fc4
DTSTAMP:20260423T195507Z
DESCRIPTION:Whether you are a returning student or starting your first year at OWU\, we understand that the transition back to school can bring about a mix of emotions and challenges. To provide you with a supportive space and valuable resources\, Counseling Services is offering a weekly back to school drop-in group on Fridays from 12-1pm in HWCC 304. All students are welcome to participate for the opportunity to connect with peers\, share experiences related to adjusting to college\, and learn practical strategies for success. This group is meant to be supportive and is not considered a clinical treatment group. No RSVP is required\; We hope you will join us for our first group today!
OWU Sponsoring Organization/Office: Ohio Wesleyan UniversityContact: Leana Froehlich-Terry at&nbsp\;counselingservices@owu.edu
SUMMARY:Back-to-School Drop-in Group
DTSTART:20240823T160000Z
DTEND:20240823T170000Z
END:VEVENT
END:VCALENDAR
