BEGIN:VCALENDAR
VERSION:2.0
PRODID:-//hacksw/handcal//NONSGML v1.0//EN
CALSCALE:GREGORIAN
BEGIN:VEVENT
UID:69ead5ac8a1d1
DTSTAMP:20260424T023004Z
DESCRIPTION:OWU&rsquo\;s Baran Fellowship helps students who want to pursue graduate school and are interested in major fellowships become standout candidates\, by funding CV-enhancing experiences like research efforts\, study abroad\, internships\, and more. To learn more\, or receive feedback on your Baran proposal draft (the fall deadline is November 30!) come to the Baran Fellowship Info Session on Tuesday\, 10/24 at 4:10 in Corns 312!
&nbsp\;

OWU Sponsoring Organization/Office: OWU FellowshipsContact: Franchesca Nestor at&nbsp\;fvnestor@owu.edu

SUMMARY:Baran Fellowship Information Session
DTSTART:20231024T201000Z
DTEND:20231024T210000Z
END:VEVENT
END:VCALENDAR
