BEGIN:VCALENDAR
VERSION:2.0
PRODID:-//hacksw/handcal//NONSGML v1.0//EN
CALSCALE:GREGORIAN
BEGIN:VEVENT
UID:69e997cf29f1b
DTSTAMP:20260423T035351Z
DESCRIPTION:Have upcoming exams\, papers\, and homework to do? Join the Kappas in a study and homework night! Meet in the Smith lobby by chairs to walk over with a sister!
OWU Sponsoring Organization/Office: Kappa Kappa GammaContact: Emilee Asbury at&nbsp\;emasbury@owu.edu
SUMMARY:Be Studious with the Kappas
DTSTART:20231109T000000Z
DTEND:20231109T013000Z
END:VEVENT
END:VCALENDAR
