BEGIN:VCALENDAR
VERSION:2.0
PRODID:-//hacksw/handcal//NONSGML v1.0//EN
CALSCALE:GREGORIAN
BEGIN:VEVENT
UID:69e52fa5c9990
DTSTAMP:20260419T194021Z
DESCRIPTION:Oct. 31\, 2019-Feb. 9\, 2020 &ndash\; &ldquo\;Bijoux Contemporains: Francophone Artists Reimagine Adornment&rdquo\; featuring works by 13 jewelers from French-speaking countries in Canada and Europe\, at the Richard M. Ross Art Museum\, 60 S. Sandusky St.\, Delaware. Each creator reimagines the ways art and jewelry inform one another in a contemporary context. The exhibit is organized by Noel Guyomarc&rsquo\;h in collaboration with Erin Fletcher\, director of the Ross Art Museum\; Mary Anne Lewis Cusato\, associate professor of modern foreign languages\; and Cynthia Cetlin\, professor of fine arts. Jewelers featured are Marianne Anselin\, Marie Eve Castonguay\, Ambroise Degen&egrave\;ve\, Gabrielle Desmarais\, Catherine Granche\, Aurelie Guillaume\, Sophie Hanagarth\, Patricia LeMaire\, Nelly Van Oost\, Claude Schmitz\, Catherine Sheedy\, Magali Thibault-Gobeil\, and Anne-Sophie Vall&eacute\;e. On Nov. 21\, the museum will host a curator lecture at noon\, an exhibition tour with the OWU faculty collaborators at 5 p.m.\, and a reception at 5:30 p.m. During the academic year\, the Ross Art Museum is open Tuesday\, Wednesday\, and Friday from 10 a.m. to 5 p.m.\; Thursday from 10 a.m. to 9 p.m.\; and Sunday from 1 p.m. to 5 p.m. The museum is handicap-accessible and admission is always free. Call (740) 368-3606 or visit www.owu.edu/ross&nbsp\;for more information.
&nbsp\;
SUMMARY:Bijoux Contemporains: Francophone Artists Reimagine Adornment 
DTSTART:20191031T140000Z
DTEND:20191031T210000Z
END:VEVENT
END:VCALENDAR
