BEGIN:VCALENDAR
VERSION:2.0
PRODID:-//hacksw/handcal//NONSGML v1.0//EN
CALSCALE:GREGORIAN
BEGIN:VEVENT
UID:69ea9dee2de0f
DTSTAMP:20260423T223214Z
DESCRIPTION:Christian Formoso is a Chilean and Magellan Poet. He has won several awards\, among them the &ldquo\;Binacional Literary Award of Patagonia Chile-Argentina&rdquo\; (1998 and 2000)\, the &ldquo\;Municipal Award City of Punta Arenas&rdquo\; (2010)\, and the prestigious &ldquo\;Pablo Neruda Prize&rdquo\; (2010)\, granted by the Pablo Neruda Foundation. The jury that unanimously awarded him praised &ldquo\;the originality of his poetry\, where he brings together the historical\, the ethnic\, the indigenous and the domestic. What stands out in his work is the Patagonian universe and his profound poetic vision of this world.&rdquo\;
Christian has published six collections of poems. The most recent is &ldquo\;bellezamericana&rdquo\; (Santiago de Chile\, Cuarto Propio\, 2014)\, and the most important until now is &ldquo\;El cementerio m&aacute\;s hermoso de Chile&rdquo\; (Santiago de Chile\, Cuarto Propio\, 2008). His poems have been collected in anthologies and media in Chile\, Argentina\, Bolivia\, Colombia\, France\, Spain\, Greece\, and the United States.
This event is sponsored by the Department of Environment &amp\; Sustainability\, Department of Fine Arts Department\, and Palmer Global Scholars Program.
SUMMARY:Bilingual Poetry Reading by Christian Formoso
DTSTART:20231027T160000Z
DTEND:20231027T170000Z
END:VEVENT
END:VCALENDAR
