BEGIN:VCALENDAR
VERSION:2.0
PRODID:-//hacksw/handcal//NONSGML v1.0//EN
CALSCALE:GREGORIAN
BEGIN:VEVENT
UID:69e7376f6ee19
DTSTAMP:20260421T083807Z
DESCRIPTION:Join us for the Biological Sciences Department Halloween Party! Enjoy pumpkin painting\, s'mores\, pizza\, and fun mocktails. Don&apos\;t miss out on a frightfully good time!
OWU Sponsoring Organization/Office: Biological Sciences DepartmentContact: Jasmyn Zimmerman at&nbsp\;jdzimmerman@owu.edu
SUMMARY:Biological Sciences Department Halloween Party
DTSTART:20241031T160000Z
DTEND:20241031T180000Z
END:VEVENT
END:VCALENDAR
