BEGIN:VCALENDAR
VERSION:2.0
PRODID:-//hacksw/handcal//NONSGML v1.0//EN
CALSCALE:GREGORIAN
BEGIN:VEVENT
UID:69e9715f9596c
DTSTAMP:20260423T010951Z
DESCRIPTION:Everyone is invited to a free pre-game tailgate and Ohio Wesleyan University football game Sept. 7 at the Bishop Backers Fall Community Day celebration at Selby Stadium\, 45 S. Henry St.\, Delaware.
The tailgate will begin at 5 p.m. with City of Delaware police officers and firefighters and Ohio Wesleyan Public Safety officers grilling up free hotdogs and hamburgers. (Gluten-free and vegetarian options also will be available.)
At 6 p.m.\, the Battling Bishops football team will take on the Otterbein University Cardinals&nbsp\;at OWU&apos\;s first home game of the 2024-2025 season.
As part of the Fall Community Day festivities\, Ohio Wesleyan will set up cornhole and other yard games\, and the fire department will set up its spray house. The police department&apos\;s Safety Pup and OWU&apos\;s Battling Bishop mascots also will be on hand for the celebration\, along with the university&apos\;s Marching Bishops.
Admission is free\, but attendees are invited to make donations and participate in a 50/50 raffle to&nbsp\;support the Stratford Ecological Center\, 3038 Liberty Road\, Delaware\, a 236-acre educational farm and nature preserve.
During the regular season\, admission for ticketed OWU athletics events is $5 for adults and $3 for senior citizens\, non-OWU students\, and children 12 and over. Admission is free for Ohio Wesleyan students with a valid university ID.&nbsp\;All-sports season passes also are available for $50 per pass through the OWU Athletics Department.&nbsp\;Call (740) 368-3726 or visit&nbsp\;battlingbishops.com for more information\, including the Ohio Wesleyan&apos\;s complete fall athletics schedule.
SUMMARY:Bishop Backers Fall Community Day
DTSTART:20240907T210000Z
DTEND:20240908T010000Z
END:VEVENT
END:VCALENDAR
