BEGIN:VCALENDAR
VERSION:2.0
PRODID:-//hacksw/handcal//NONSGML v1.0//EN
CALSCALE:GREGORIAN
BEGIN:VEVENT
UID:69e86fab75086
DTSTAMP:20260422T065019Z
DESCRIPTION:Join Career Connections in Hamwill to celebrate your jobs\, internships\, and research opportunities -Receive a free OWU t-shirt\, hang out with bob the bishop\, and enjoy some snacks!Fill out the form below to secure a t-shirt! If you already filled it out\, come get your shirt without waiting in line!https://docs.google.com/forms/d/e/1FAIpQLSeK7D4aOjqO9-_thSxDY_fLZm5A2XgsUlJM4H8UUWMa4yyNQw/viewform?lor=0
OWU Sponsoring Organization/Office: Woltemade CenterContact: Libby Norlander at&nbsp\;ctlammer@owu.edu
SUMMARY:Bishop Brag Days
DTSTART:20220330T150000Z
DTEND:20220330T170000Z
END:VEVENT
END:VCALENDAR
