BEGIN:VCALENDAR
VERSION:2.0
PRODID:-//hacksw/handcal//NONSGML v1.0//EN
CALSCALE:GREGORIAN
BEGIN:VEVENT
UID:69ecf8a1712f8
DTSTAMP:20260425T172345Z
DESCRIPTION:Join the Bishop Way and the OWU Counseling Department at the Zook Nook in HamWill on Wednesday\, September 27th at 12pm for coffee and chats! Get to know the amazing OWU counselors while enjoying a little afternoon pick-me-up!
OWU Sponsoring Organization/Office: The Bishop WayContact: Mindi Klaus at&nbsp\;Thebishopway@owu.edu
SUMMARY:Bishop Way Coffee with the Counselors 
DTSTART:20230927T160000Z
DTEND:20230927T170000Z
END:VEVENT
END:VCALENDAR
