BEGIN:VCALENDAR
VERSION:2.0
PRODID:-//hacksw/handcal//NONSGML v1.0//EN
CALSCALE:GREGORIAN
BEGIN:VEVENT
UID:69eccecc90184
DTSTAMP:20260425T142516Z
DESCRIPTION:Stop by the Jay during the lunch hour to talk with Maryhaven and the Bishop Way for resources on recovery and information surrounding addiction. Drug disposal kits and fentanyl testing strips will also be available!
OWU Sponsoring Organization/Office: The Bishop WayContact: Mindi Klaus at&nbsp\;Thebishopway@owu.edu
SUMMARY:Bishop Way International Recovery Day Tabling
DTSTART:20230929T160000Z
DTEND:20230929T170000Z
END:VEVENT
END:VCALENDAR
