BEGIN:VCALENDAR
VERSION:2.0
PRODID:-//hacksw/handcal//NONSGML v1.0//EN
CALSCALE:GREGORIAN
BEGIN:VEVENT
UID:69ea0ced82005
DTSTAMP:20260423T121333Z
DESCRIPTION:Do you know what a standard pour is?&nbsp\; Do you know how to estimate your Blood Alcohol Content (BAC)? Stop by the Bishop Way table in the Ham-Wil atrium on Friday November 3rd to learn how to stay safe and in control while drinking. There will be yummy mocktails\, fun games\, and giveaways!
OWU Sponsoring Organization/Office: The Bishop WayContact: Brooke Lenigan at&nbsp\;thebishopway@owu.edu
SUMMARY:Bishop Way Mocktail Event
DTSTART:20231103T160000Z
DTEND:20231103T170000Z
END:VEVENT
END:VCALENDAR
