BEGIN:VCALENDAR
VERSION:2.0
PRODID:-//hacksw/handcal//NONSGML v1.0//EN
CALSCALE:GREGORIAN
BEGIN:VEVENT
UID:69e85af92e5af
DTSTAMP:20260422T052201Z
DESCRIPTION:Accidental fentanyl ingestions killed nearly 80\,000 Americans last year\, and the fastest rising age demographic is age 15-25. BirdieLight plans to change that! Through education and empowerment\, BirdieLight teaches young people how to avoid fentanyl poisoning\, and how to get #closertosafe.
The presentation is Wednesday\, March 30 at 7pm in Benes B\, Ham-Wil.
Learn more about the BirdieLight story here:&nbsp\;https://www.birdielight.org/
SUMMARY: Bishop Way Presents BirdieLight - Fentanyl Awareness
DTSTART:20220330T230000Z
DTEND:20220331T003000Z
END:VEVENT
END:VCALENDAR
