BEGIN:VCALENDAR
VERSION:2.0
PRODID:-//hacksw/handcal//NONSGML v1.0//EN
CALSCALE:GREGORIAN
BEGIN:VEVENT
UID:69ece1986bdab
DTSTAMP:20260425T154528Z
DESCRIPTION:Join the Bishop Way and Bishops for Accessibility for a fun evening in Smith\, centered around self care! Pop in for some free giveaways and some tips on how to take care of yourself and get through stressful times! The event will be located on the amphitheater stairs.
OWU Sponsoring Organization/Office: The Bishop WayContact: Mindi Klaus at&nbsp\;Thebishopway@owu.edu
SUMMARY:Bishop Way Self Care in Smith Hall 
DTSTART:20230928T230000Z
DTEND:20230929T000000Z
END:VEVENT
END:VCALENDAR
