BEGIN:VCALENDAR
VERSION:2.0
PRODID:-//hacksw/handcal//NONSGML v1.0//EN
CALSCALE:GREGORIAN
BEGIN:VEVENT
UID:69ea62150b274
DTSTAMP:20260423T181653Z
DESCRIPTION:Join the Bishop Way and the rest of campus for a week focused on wellness! See the list of events below on each day!
Monday-Bishop Way Resource Table (Ham-Wil Atrium\, 12pm-1pm)-Financial Wellness Seminar (Sponsored by ResLife in Smith 2nd Floor Classroom\, 8pm)Tuesday-Bishop Way Resource Table (Ham-Wil Atrium\, 12pm - 1pm)-Counseling Services Open House-Trick or Treat on the JAY (Sponsored by Panhellenic Council &amp\; Interfraternity Council\, 6pm - 7:30pm)Wednesday-Counseling Services Drop-in Wellness Space (Ham-Will 304 11am - 2pm)-Bishop Way Resource Table (Ham-Wil Atrium\, 12pm - 1pm)-ResLife&rsquo\;s Go TF to Sleep (Smith Classroom\, 8pm)Thursday-Bishop Way&rsquo\;s Coffee\, Canine\, and Counselors (Crider Lounge\, 12pm - 1pm)Friday-Bishop Way&rsquo\;s Mocktails and Safe Drinking Table (Ham-Wil Atrium\, 12pm -1pm)
SUMMARY:Bishop Way Wellness Week
DTSTART:20231030
DTEND:20231030
END:VEVENT
END:VCALENDAR
