BEGIN:VCALENDAR
VERSION:2.0
PRODID:-//hacksw/handcal//NONSGML v1.0//EN
CALSCALE:GREGORIAN
BEGIN:VEVENT
UID:69ea9dda68458
DTSTAMP:20260423T223154Z
DESCRIPTION:





It's that spooktacular time of the year again! OWU's Black Caucus will host its annual haunted house at House of Black Culture on Friday Oct. 27 from 7-10 pm!&nbsp\;Join us\, if you dare\, for a spine-tingling soir&eacute\;e! Feast on our selection of goblin-good snacks and bone-chilling beverages available for purchase. We've got something that will delight every creature of the night. Get your&nbsp\;Haunted House Tickets&nbsp\;now prepare for a night of phantasmic fun and frights with the Black Caucus!!
OWU Sponsoring Organization/Office: Black Student UnionContact: Jemimah Chukwuemeka at&nbsp\;bsu@owu.edu
&nbsp\;





&nbsp\;









&nbsp\;




SUMMARY:Black Caucus Haunted House 2023
DTSTART:20231027T230000Z
DTEND:20231028T020000Z
END:VEVENT
END:VCALENDAR
