BEGIN:VCALENDAR
VERSION:2.0
PRODID:-//hacksw/handcal//NONSGML v1.0//EN
CALSCALE:GREGORIAN
BEGIN:VEVENT
UID:69e7a95d4afe7
DTSTAMP:20260421T164413Z
DESCRIPTION:Come join the men of Black Men of The Future in Stuyvesant Hall for our Final Kickback. We will be hosting it in the Cave on the Bottom Floor on Thursday starting&nbsp\; December 7\, 7:30. We will be holding a Toy Drive where we will be collecting toys\, canned goods\, and donations for the Unity Community Center. We will also have food catered from City BBQ and a hot chocolate bar as well!
OWU Sponsoring Organization/Office: Black Men of The FutureContact: Raphael Petit-Frere at&nbsp\;bmf@owu.edu
SUMMARY:BMF Final Kickback &amp\; Toy Drive
DTSTART:20231208T003000Z
DTEND:20231208T023000Z
END:VEVENT
END:VCALENDAR
