BEGIN:VCALENDAR
VERSION:2.0
PRODID:-//hacksw/handcal//NONSGML v1.0//EN
CALSCALE:GREGORIAN
BEGIN:VEVENT
UID:69e74ef03b610
DTSTAMP:20260421T101824Z
DESCRIPTION:&nbsp\;Join the Black Student Union for an unforgettable evening celebrating all things fall! Swing by the Benes Room from 6&ndash\;9 PM for delicious food\, sweet treats\, and a variety of cozy\, creative activities: &nbsp\;Decorate cookies &nbsp\;Make your own blanket &nbsp\;Customize tea bags&nbsp\;Create your own mason jar masterpiece Bring your friends\, dive into the festive spirit\, and let&apos\;s make some warm memories together. Can&apos\;t wait to see you there!
OWU Sponsoring Organization/Office: Black Student UnionContact: Lydia Ekama at&nbsp\;bsu@owu.edu
SUMMARY:BSU Presents: Fall Bash
DTSTART:20241101T220000Z
DTEND:20241102T010000Z
END:VEVENT
END:VCALENDAR
