BEGIN:VCALENDAR
VERSION:2.0
PRODID:-//hacksw/handcal//NONSGML v1.0//EN
CALSCALE:GREGORIAN
BEGIN:VEVENT
UID:69e8f3256fca6
DTSTAMP:20260422T161117Z
DESCRIPTION:Come unwind with the Black Student Union for a cozy evening around the firepit at Stuyvesant Hall! Enjoy the warmth of the fire\, make s'mores\, and connect with friends in a relaxed\, welcoming atmosphere. Whether you're looking to meet new people or just take a break\, this is the perfect way to kick off your weekend. Everyone from the OWU community is welcome!
OWU Sponsoring Organization/Office: Black Student UnionContact: Lydia Ekama at&nbsp\;bsu@owu.edu
SUMMARY:BSU Presents: S'mores Night
DTSTART:20240914T000000Z
DTEND:20240914T010000Z
END:VEVENT
END:VCALENDAR
