BEGIN:VCALENDAR
VERSION:2.0
PRODID:-//hacksw/handcal//NONSGML v1.0//EN
CALSCALE:GREGORIAN
BEGIN:VEVENT
UID:69e90814519e5
DTSTAMP:20260422T174036Z
DESCRIPTION:It is an event that celebrates African and Caribbean culture. There would be food\, henna artists\, music\, and black vendors! Come learn about different cultures with us! &nbsp\;
OWU Sponsoring Organization/Office: WCSAContact: Chantelle Ntiamoah at&nbsp\;rafiki@owu.edu
SUMMARY:Calabash
DTSTART:20241117T000000Z
DTEND:20241117T020000Z
END:VEVENT
END:VCALENDAR
