BEGIN:VCALENDAR
VERSION:2.0
PRODID:-//hacksw/handcal//NONSGML v1.0//EN
CALSCALE:GREGORIAN
BEGIN:VEVENT
UID:69e9e72106583
DTSTAMP:20260423T093217Z
DESCRIPTION:Calabash is a celebration centering all people apart of the African diaspora. Utilizing every floor in Merrick Hall\, we will have a range of performers\, delicious African food\, braiding and henna stations\, African vendors\, and an Afrobeats DJ! If you are interested in attending\, please fill out the RSVP form below:&nbsp\;https://forms.gle/mQmGMfJwbqzMkuDQ6
RSVP Information:
Please fill out the google form listed in the description.
OWU Sponsoring Organization/Office: CDO OfficeContact: Ella Lazare at&nbsp\;ellazare@owu.edu
SUMMARY:Calabash
DTSTART:20231104T230000Z
DTEND:20231105T010000Z
END:VEVENT
END:VCALENDAR
