BEGIN:VCALENDAR
VERSION:2.0
PRODID:-//hacksw/handcal//NONSGML v1.0//EN
CALSCALE:GREGORIAN
BEGIN:VEVENT
UID:69e85203d7119
DTSTAMP:20260422T044347Z
DESCRIPTION:Join the Honors Board for a Campfire Night at the Honors House from 6:00-8:00 pm on Friday\, September 20th. We will have smores\, lawn games\, crafting supplies\, and more. We will also be offering tours of the Honors House at 6:30 and 7:00 pm. Come join us for a fun night with friends!
OWU Sponsoring Organization/Office: Honors BoardContact: Andrew Inamdar at&nbsp\;honorsboard@owu.edu
SUMMARY:Campfire Night with the Honors Board
DTSTART:20240920T220000Z
DTEND:20240921T000000Z
END:VEVENT
END:VCALENDAR
