BEGIN:VCALENDAR
VERSION:2.0
PRODID:-//hacksw/handcal//NONSGML v1.0//EN
CALSCALE:GREGORIAN
BEGIN:VEVENT
UID:69ea782c42be2
DTSTAMP:20260423T195108Z
DESCRIPTION:Please note\, this event has been canceled. Thank you!
Come join us for a faculty/staff vs. student futsal game! Head to Branch Rickey Arena on October 29th\, 2023 at 2:00 pm right before the culture fest. Feel free to come and participate or even sit on the sidelines and cheer on fellow students and staff! Please wear a black shirt if you are a student and a red shirt if you are staff. As well as closed-toe shoes if you are going to play. Prizes and Stickers will be passed out. Snacks and refreshments will be provided (gluten\, dairy\, and nut-free options will be provided)Please let us know if you are coming through this form: http://bit.ly/46IgZ08
OWU Sponsoring Organization/Office: Communication Student BoardContact: Grace Croswell at&nbsp\;commstudentboard@owu.edu
SUMMARY:CANCELED: Comm Kick it With US
DTSTART:20231029T180000Z
DTEND:20231029T190000Z
END:VEVENT
END:VCALENDAR
