BEGIN:VCALENDAR
VERSION:2.0
PRODID:-//hacksw/handcal//NONSGML v1.0//EN
CALSCALE:GREGORIAN
BEGIN:VEVENT
UID:69ea36eca7af3
DTSTAMP:20260423T151244Z
DESCRIPTION:
HWCC Atrium\, Aug 28\, Wednesday\, 11 AM - 2 PM
Let's Get You Started on Your Career Path at the Career Community Fair!
Meet your Career Catalyst from OWU's 8 Career Communities:

STEM
CAREERS WITH SOCIAL IMPACT&nbsp\;
ECONOMICS &amp\; BUSINESS&nbsp\;
EDUCATION &amp\; COMMUNICATION&nbsp\;
ENTREPRENEURSHIP&nbsp\;
HUMANITIES &amp\; THE ARTS
EXPLORATORY
PRE-HEALTH

Learn about YOUR community-specific jobs and internships\, events\, and sign up to receive updates.

Register Here:&nbsp\;https://owu.joinhandshake.com/stu/events/1565552?ref=events-search
OWU Sponsoring Organization/Office: OWU Career ConnectionContact: Aryaka Tickoo at&nbsp\;ctlammer@owu.edu
SUMMARY:Career Community Fair
DTSTART:20240828T150000Z
DTEND:20240828T180000Z
END:VEVENT
END:VCALENDAR
