BEGIN:VCALENDAR
VERSION:2.0
PRODID:-//hacksw/handcal//NONSGML v1.0//EN
CALSCALE:GREGORIAN
BEGIN:VEVENT
UID:69e86fac75ff8
DTSTAMP:20260422T065020Z
DESCRIPTION:Tired of rice and chicken? Join AVI &amp\; Res Life as we change up the game this month with&nbsp\; a dish everyone loves - stir fry! The class will be held in a theater style seating with a meal provided to residents at the conclusion.
March 29th - Stir Fry Frenzy
6:30pm - 8:00pm2nd floor lounge of Bradford Milligan Hall
RSVP Information:
https://docs.google.com/forms/d/e/1FAIpQLScOm1uXCWVpNfRBZJvLPaErdD4c7bYlfxYrugSIEXppSEkDZA/viewform?usp=pp_url
OWU Sponsoring Organization/Office: Residential LifeContact: Laken Moreno at&nbsp\;lomoreno@owu.edu
SUMMARY:Casually Cooking @ BMH
DTSTART:20220329T223000Z
DTEND:20220330T000000Z
END:VEVENT
END:VCALENDAR
