BEGIN:VCALENDAR
VERSION:2.0
PRODID:-//hacksw/handcal//NONSGML v1.0//EN
CALSCALE:GREGORIAN
BEGIN:VEVENT
UID:69ecbe8d55d87
DTSTAMP:20260425T131557Z
DESCRIPTION:Casually Cooking is back this semester with Keith Sipek and Josh Spyker teaching you how to prepare Honey Chicken and Tofu Stir Fry on January 28th\, 2025 at 6:00pm in the Smith Hall Dining Hall.
OWU Sponsoring Organization/Office: Reslife/AVIContact: Jon Maldonado at&nbsp\;Jmmaldonado@owu.edu
SUMMARY:Casually Cooking: Honey Chicken &amp\; Tofu Stir Fry
DTSTART:20250128T230000Z
DTEND:20250129T000000Z
END:VEVENT
END:VCALENDAR
