BEGIN:VCALENDAR
VERSION:2.0
PRODID:-//hacksw/handcal//NONSGML v1.0//EN
CALSCALE:GREGORIAN
BEGIN:VEVENT
UID:69e73d9282f2a
DTSTAMP:20260421T090418Z
DESCRIPTION:Join us in giving back to our community! We&apos\;re offering candy and face painting to bring joy to local children. Let&apos\;s make this a fun and memorable day for everyone! Location: Unity Community Center\, 50A Ross St\, Delaware OH Time: 4-6pm If you need a ride\, please meet at La Casa @ 3:30pm Hope to see you there!
OWU Sponsoring Organization/Office: VIVAContact: Amarilys Torres-Nunez at&nbsp\;adtorresnunez@owu.edu
SUMMARY:Celebrate Halloween W/ Unity Community &amp\; VIVA
DTSTART:20241031T200000Z
DTEND:20241031T220000Z
END:VEVENT
END:VCALENDAR
