BEGIN:VCALENDAR
VERSION:2.0
PRODID:-//hacksw/handcal//NONSGML v1.0//EN
CALSCALE:GREGORIAN
BEGIN:VEVENT
UID:69e7d2ee02ead
DTSTAMP:20260421T194134Z
DESCRIPTION:Bring your lunch and join us from 12:00-1:00 in the Crider Lounge (HWCC) to hear from Dr. Andrea Suria (assistant professor of biological sciences). Dr. SUria will be sharing a talk entitled "Mejor Juntos: The Benefits of Bacterial Partners". Don&apos\;t miss this opportunity to celebrate and honor the achievements of our Latine faculty at OWU. Please&nbsp\;RSVP here.
OWU Sponsoring Organization/Office: CDO\, OMSA\, VIVA\, &amp\; La CasaContact: Andrew Inamdar at&nbsp\;cdo@owu.edu
SUMMARY:Celebrating Latine Excellence in Research
DTSTART:20240925T160000Z
DTEND:20240925T170000Z
END:VEVENT
END:VCALENDAR
