BEGIN:VCALENDAR
VERSION:2.0
PRODID:-//hacksw/handcal//NONSGML v1.0//EN
CALSCALE:GREGORIAN
BEGIN:VEVENT
UID:69e74fe352993
DTSTAMP:20260421T102227Z
DESCRIPTION:Date: October 2 from 7-8:30 p.m. Location: Benes Rooms Description:&nbsp\; This panel will engage the audience in the process of thinking through alternatives to the current electoral system as part of an effort to encourage participation in the electoral process&nbsp\; Moderated by Dr. Franchesca Nestor\, the panel will begin with a short overview of different types of electoral reform\, before hearing from representatives from Rank the Vote Ohio\, Fair Districts Ohio and others involved in efforts to try to make our political institutions more responsive to citizens&apos\; concerns.&nbsp\;&nbsp\;&nbsp\;
OWU Sponsoring Organization/Office: SNCContact: Jill Hayes at&nbsp\;snc@owu.edu
SUMMARY:Challenging the System: Electoral Reform on the Ballot
DTSTART:20241002T230000Z
DTEND:20241003T003000Z
END:VEVENT
END:VCALENDAR
