BEGIN:VCALENDAR
VERSION:2.0
PRODID:-//hacksw/handcal//NONSGML v1.0//EN
CALSCALE:GREGORIAN
BEGIN:VEVENT
UID:69e984c1a0e91
DTSTAMP:20260423T023233Z
DESCRIPTION:Ohio Wesleyan&rsquo\;s Chamber Orchestra\, conducted by instructor Deborah Price\, in Gray Chapel inside University Hall\, 61 S. Sandusky St.\, Delaware. Admission is free. For more information\, visit owu.edu/PerformingArts
SUMMARY:Chamber Orchestra Concert
DTSTART:20231110T010000Z
DTEND:20231110T030000Z
END:VEVENT
END:VCALENDAR
