BEGIN:VCALENDAR
VERSION:2.0
PRODID:-//hacksw/handcal//NONSGML v1.0//EN
CALSCALE:GREGORIAN
BEGIN:VEVENT
UID:69e89c3c125d8
DTSTAMP:20260422T100028Z
DESCRIPTION:Ohio Wesleyan Chamber Orchestra\, conducted by faculty member Deborah Price\, in Gray Chapel inside University Hall\, 61 S. Sandusky St.\, Delaware. Admission is free. For more information\, visit owu.edu/PerformingArts.
SUMMARY:Chamber Orchestra Concert
DTSTART:20241115T010000Z
DTEND:20241115T030000Z
END:VEVENT
END:VCALENDAR
