BEGIN:VCALENDAR
VERSION:2.0
PRODID:-//hacksw/handcal//NONSGML v1.0//EN
CALSCALE:GREGORIAN
BEGIN:VEVENT
UID:69e95f0b798dd
DTSTAMP:20260422T235139Z
DESCRIPTION:Ohio Wesleyan&rsquo\;s Choral Art Society and Chamber Choir\, conducted by associate professor Jason Hiester\, in Gray Chapel inside University Hall\, 61 S. Sandusky St.\, Delaware. Admission is free. For more information\, visit owu.edu/PerformingArts.
SUMMARY:Choral Art Society / Chamber Choir Concert
DTSTART:20231112T000000Z
DTEND:20231112T020000Z
END:VEVENT
END:VCALENDAR
